Package: ChemmineOB Version: 1.42.0 Command: chmod a+r ChemmineOB -R && E:\biocbuild\bbs-3.19-bioc\R\bin\R.exe CMD build --keep-empty-dirs --no-resave-data ChemmineOB StartedAt: 2024-10-16 18:09:13 -0400 (Wed, 16 Oct 2024) EndedAt: 2024-10-16 18:13:03 -0400 (Wed, 16 Oct 2024) EllapsedTime: 230.1 seconds RetCode: 0 Status: OK PackageFile: ChemmineOB_1.42.0.tar.gz PackageFileSize: 1.303 MiB