Package: ChemmineOB Version: 1.42.0 Command: /home/biocbuild/bbs-3.19-bioc/R/bin/R CMD check --install=check:ChemmineOB.install-out.txt --library=/home/biocbuild/bbs-3.19-bioc/R/site-library --timings ChemmineOB_1.42.0.tar.gz StartedAt: 2024-10-16 22:40:21 -0400 (Wed, 16 Oct 2024) EndedAt: 2024-10-16 22:41:51 -0400 (Wed, 16 Oct 2024) EllapsedTime: 90.2 seconds RetCode: 0 Status: WARNINGS CheckDir: ChemmineOB.Rcheck Warnings: 2