Package: ChemmineOB Version: 1.42.0 Command: /home/biocbuild/bbs-3.19-bioc/R/bin/R CMD build --keep-empty-dirs --no-resave-data ChemmineOB StartedAt: 2024-10-16 17:40:08 -0400 (Wed, 16 Oct 2024) EndedAt: 2024-10-16 17:41:54 -0400 (Wed, 16 Oct 2024) EllapsedTime: 105.2 seconds RetCode: 0 Status: OK PackageFile: ChemmineOB_1.42.0.tar.gz PackageFileSize: 1.303 MiB