Package: ChemmineOB Version: 1.42.0 Command: /Library/Frameworks/R.framework/Resources/bin/R CMD INSTALL ChemmineOB StartedAt: 2024-10-16 15:07:58 -0400 (Wed, 16 Oct 2024) EndedAt: 2024-10-16 15:09:32 -0400 (Wed, 16 Oct 2024) EllapsedTime: 93.6 seconds RetCode: 1 Status: ERROR