Package: ChemmineOB Version: 1.42.0 Command: rm -rf ChemmineOB.buildbin-libdir && mkdir ChemmineOB.buildbin-libdir && /Users/biocbuild/BBS/utils/build-universal.sh ChemmineOB_1.42.0.tar.gz /Library/Frameworks/R.framework/Resources/bin/R ChemmineOB.buildbin-libdir StartedAt: 2024-09-26 14:25:48 -0400 (Thu, 26 Sep 2024) EndedAt: 2024-09-26 14:30:31 -0400 (Thu, 26 Sep 2024) EllapsedTime: 282.5 seconds RetCode: 0 Status: OK PackageFile: ChemmineOB_1.42.0.tgz PackageFileSize: 5.273 MiB