Package: ChemmineOB Version: 1.42.0 Command: /Library/Frameworks/R.framework/Resources/bin/R CMD check --install=check:ChemmineOB.install-out.txt --library=/Library/Frameworks/R.framework/Resources/library --no-vignettes --timings ChemmineOB_1.42.0.tar.gz StartedAt: 2024-06-09 19:21:58 -0400 (Sun, 09 Jun 2024) EndedAt: 2024-06-09 19:23:45 -0400 (Sun, 09 Jun 2024) EllapsedTime: 107.0 seconds RetCode: 0 Status: WARNINGS CheckDir: ChemmineOB.Rcheck Warnings: 2