Package: ChemmineOB Version: 1.42.0 Command: /Library/Frameworks/R.framework/Resources/bin/R CMD INSTALL ChemmineOB StartedAt: 2024-06-09 15:05:05 -0400 (Sun, 09 Jun 2024) EndedAt: 2024-06-09 15:05:23 -0400 (Sun, 09 Jun 2024) EllapsedTime: 18.5 seconds RetCode: 1 Status: ERROR