Package: ChIPsim Version: 1.58.0 Command: E:\biocbuild\bbs-3.19-bioc\R\bin\R.exe CMD INSTALL ChIPsim StartedAt: 2024-10-16 16:30:52 -0400 (Wed, 16 Oct 2024) EndedAt: 2024-10-16 16:31:32 -0400 (Wed, 16 Oct 2024) EllapsedTime: 40.2 seconds RetCode: 0 Status: OK