Package: ChIPsim Version: 1.58.0 Command: chmod a+r ChIPsim -R && F:\biocbuild\bbs-3.19-bioc\R\bin\R.exe CMD build --keep-empty-dirs --no-resave-data ChIPsim StartedAt: 2024-06-26 17:46:59 -0400 (Wed, 26 Jun 2024) EndedAt: 2024-06-26 17:48:20 -0400 (Wed, 26 Jun 2024) EllapsedTime: 81.6 seconds RetCode: 0 Status: OK PackageFile: ChIPsim_1.58.0.tar.gz PackageFileSize: 521.6 KiB