Package: ChIPsim Version: 1.58.0 Command: rm -rf ChIPsim.buildbin-libdir && mkdir ChIPsim.buildbin-libdir && /Users/biocbuild/BBS/utils/build-universal.sh ChIPsim_1.58.0.tar.gz /Library/Frameworks/R.framework/Resources/bin/R ChIPsim.buildbin-libdir StartedAt: 2024-10-17 15:50:47 -0400 (Thu, 17 Oct 2024) EndedAt: 2024-10-17 15:52:01 -0400 (Thu, 17 Oct 2024) EllapsedTime: 74.5 seconds RetCode: 0 Status: OK PackageFile: ChIPsim_1.58.0.tgz PackageFileSize: 759.6 KiB