Package: ChIPsim Version: 1.58.0 Command: /home/biocbuild/R/R-beta-2024-04-15_r86425/bin/R CMD INSTALL ChIPsim StartedAt: 2024-05-08 20:34:53 -0000 (Wed, 08 May 2024) EndedAt: 2024-05-08 20:35:32 -0000 (Wed, 08 May 2024) EllapsedTime: 38.9 seconds RetCode: 0 Status: OK