Package: ChIPsim Version: 1.58.0 Command: /home/biocbuild/R/R-beta-2024-04-15_r86425/bin/R CMD check --install=check:ChIPsim.install-out.txt --library=/home/biocbuild/R/R-beta-2024-04-15_r86425/site-library --no-vignettes --timings ChIPsim_1.58.0.tar.gz StartedAt: 2024-05-09 05:48:12 -0000 (Thu, 09 May 2024) EndedAt: 2024-05-09 05:52:26 -0000 (Thu, 09 May 2024) EllapsedTime: 253.4 seconds RetCode: 0 Status: OK CheckDir: ChIPsim.Rcheck Warnings: 0