Package: ChIPseeker Version: 1.40.0 Command: E:\biocbuild\bbs-3.19-bioc\R\bin\R.exe CMD INSTALL ChIPseeker StartedAt: 2024-10-16 16:57:39 -0400 (Wed, 16 Oct 2024) EndedAt: 2024-10-16 16:58:59 -0400 (Wed, 16 Oct 2024) EllapsedTime: 79.5 seconds RetCode: 0 Status: OK