Package: ChIPseeker Version: 1.40.0 Command: chmod a+r ChIPseeker -R && E:\biocbuild\bbs-3.19-bioc\R\bin\R.exe CMD build --keep-empty-dirs --no-resave-data ChIPseeker StartedAt: 2024-10-16 18:10:35 -0400 (Wed, 16 Oct 2024) EndedAt: 2024-10-16 18:20:17 -0400 (Wed, 16 Oct 2024) EllapsedTime: 581.9 seconds RetCode: 0 Status: OK PackageFile: ChIPseeker_1.40.0.tar.gz PackageFileSize: 6.604 MiB