Package: ChIPseeker Version: 1.40.0 Command: rm -rf ChIPseeker.buildbin-libdir && mkdir ChIPseeker.buildbin-libdir && E:\biocbuild\bbs-3.19-bioc\R\bin\R.exe CMD INSTALL --build --library=ChIPseeker.buildbin-libdir ChIPseeker_1.40.0.tar.gz StartedAt: 2024-10-17 07:31:49 -0400 (Thu, 17 Oct 2024) EndedAt: 2024-10-17 07:33:08 -0400 (Thu, 17 Oct 2024) EllapsedTime: 79.8 seconds RetCode: 0 Status: OK PackageFile: ChIPseeker_1.40.0.zip PackageFileSize: 6.59 MiB