Package: ChIPseeker Version: 1.40.0 Command: /Library/Frameworks/R.framework/Resources/bin/R CMD check --install=check:ChIPseeker.install-out.txt --library=/Library/Frameworks/R.framework/Resources/library --no-vignettes --timings ChIPseeker_1.40.0.tar.gz StartedAt: 2024-10-17 02:40:28 -0400 (Thu, 17 Oct 2024) EndedAt: 2024-10-17 03:20:29 -0400 (Thu, 17 Oct 2024) EllapsedTime: 2401.0 seconds RetCode: None Status: TIMEOUT CheckDir: ChIPseeker.Rcheck Warnings: NA