Package: ChIPseeker Version: 1.40.0 Command: /Library/Frameworks/R.framework/Resources/bin/R CMD INSTALL ChIPseeker StartedAt: 2024-06-09 16:50:55 -0400 (Sun, 09 Jun 2024) EndedAt: 2024-06-09 16:52:10 -0400 (Sun, 09 Jun 2024) EllapsedTime: 75.7 seconds RetCode: 0 Status: OK