Package: ChIPseeker Version: 1.40.0 Command: /Library/Frameworks/R.framework/Resources/bin/R CMD check --install=check:ChIPseeker.install-out.txt --library=/Library/Frameworks/R.framework/Resources/library --no-vignettes --timings ChIPseeker_1.40.0.tar.gz StartedAt: 2024-06-10 10:22:03 -0400 (Mon, 10 Jun 2024) EndedAt: 2024-06-10 10:54:00 -0400 (Mon, 10 Jun 2024) EllapsedTime: 1917.3 seconds RetCode: 0 Status: OK CheckDir: ChIPseeker.Rcheck Warnings: 0