Package: ChIPseeker Version: 1.40.0 Command: rm -rf ChIPseeker.buildbin-libdir && mkdir ChIPseeker.buildbin-libdir && /Users/biocbuild/BBS/utils/build-universal.sh ChIPseeker_1.40.0.tar.gz /Library/Frameworks/R.framework/Resources/bin/R ChIPseeker.buildbin-libdir StartedAt: 2024-06-11 10:33:12 -0400 (Tue, 11 Jun 2024) EndedAt: 2024-06-11 10:34:42 -0400 (Tue, 11 Jun 2024) EllapsedTime: 89.7 seconds RetCode: 0 Status: OK PackageFile: ChIPseeker_1.40.0.tgz PackageFileSize: 7.296 MiB