Package: ChIPseeker Version: 1.40.0 Command: /Library/Frameworks/R.framework/Resources/bin/R CMD build --keep-empty-dirs --no-resave-data ChIPseeker StartedAt: 2024-10-16 21:21:35 -0400 (Wed, 16 Oct 2024) EndedAt: 2024-10-16 21:30:15 -0400 (Wed, 16 Oct 2024) EllapsedTime: 520.3 seconds RetCode: 0 Status: OK PackageFile: ChIPseeker_1.40.0.tar.gz PackageFileSize: 7.294 MiB