Package: ChIPseeker Version: 1.40.0 Command: rm -rf ChIPseeker.buildbin-libdir && mkdir ChIPseeker.buildbin-libdir && /Users/biocbuild/BBS/utils/build-universal.sh ChIPseeker_1.40.0.tar.gz /Library/Frameworks/R.framework/Resources/bin/R ChIPseeker.buildbin-libdir StartedAt: 2024-10-18 17:45:15 -0400 (Fri, 18 Oct 2024) EndedAt: 2024-10-18 17:46:22 -0400 (Fri, 18 Oct 2024) EllapsedTime: 66.3 seconds RetCode: 0 Status: OK PackageFile: ChIPseeker_1.40.0.tgz PackageFileSize: 7.271 MiB