Package: ChIPpeakAnno Version: 3.38.1 Command: E:\biocbuild\bbs-3.19-bioc\R\bin\R.exe CMD INSTALL ChIPpeakAnno StartedAt: 2024-10-16 17:03:40 -0400 (Wed, 16 Oct 2024) EndedAt: 2024-10-16 17:06:42 -0400 (Wed, 16 Oct 2024) EllapsedTime: 182.8 seconds RetCode: 0 Status: OK