Package: ChIPpeakAnno Version: 3.38.1 Command: chmod a+r ChIPpeakAnno -R && E:\biocbuild\bbs-3.19-bioc\R\bin\R.exe CMD build --keep-empty-dirs --no-resave-data ChIPpeakAnno StartedAt: 2024-10-16 18:10:27 -0400 (Wed, 16 Oct 2024) EndedAt: 2024-10-16 18:30:52 -0400 (Wed, 16 Oct 2024) EllapsedTime: 1225.1 seconds RetCode: 0 Status: OK PackageFile: ChIPpeakAnno_3.38.1.tar.gz PackageFileSize: 19.58 MiB