Package: ChIPpeakAnno Version: 3.38.1 Command: rm -rf ChIPpeakAnno.buildbin-libdir && mkdir ChIPpeakAnno.buildbin-libdir && E:\biocbuild\bbs-3.19-bioc\R\bin\R.exe CMD INSTALL --build --library=ChIPpeakAnno.buildbin-libdir ChIPpeakAnno_3.38.1.tar.gz StartedAt: 2024-10-17 07:31:38 -0400 (Thu, 17 Oct 2024) EndedAt: 2024-10-17 07:34:32 -0400 (Thu, 17 Oct 2024) EllapsedTime: 174.2 seconds RetCode: 0 Status: OK PackageFile: ChIPpeakAnno_3.38.1.zip PackageFileSize: 20.67 MiB