Package: ChIPpeakAnno Version: 3.38.0 Command: rm -rf ChIPpeakAnno.buildbin-libdir && mkdir ChIPpeakAnno.buildbin-libdir && F:\biocbuild\bbs-3.19-bioc\R\bin\R.exe CMD INSTALL --build --library=ChIPpeakAnno.buildbin-libdir ChIPpeakAnno_3.38.0.tar.gz StartedAt: 2024-06-27 07:58:59 -0400 (Thu, 27 Jun 2024) EndedAt: 2024-06-27 08:01:53 -0400 (Thu, 27 Jun 2024) EllapsedTime: 174.5 seconds RetCode: 0 Status: OK PackageFile: ChIPpeakAnno_3.38.0.zip PackageFileSize: 20.66 MiB