Package: ChIPpeakAnno Version: 3.38.1 Command: /home/biocbuild/bbs-3.19-bioc/R/bin/R CMD build --keep-empty-dirs --no-resave-data ChIPpeakAnno StartedAt: 2024-10-16 17:41:47 -0400 (Wed, 16 Oct 2024) EndedAt: 2024-10-16 17:57:30 -0400 (Wed, 16 Oct 2024) EllapsedTime: 943.6 seconds RetCode: 0 Status: OK PackageFile: ChIPpeakAnno_3.38.1.tar.gz PackageFileSize: 20.74 MiB