Package: ChIPpeakAnno Version: 3.38.0 Command: /Library/Frameworks/R.framework/Resources/bin/R CMD build --keep-empty-dirs --no-resave-data ChIPpeakAnno StartedAt: 2024-06-09 16:09:55 -0400 (Sun, 09 Jun 2024) EndedAt: 2024-06-09 16:27:41 -0400 (Sun, 09 Jun 2024) EllapsedTime: 1065.3 seconds RetCode: 0 Status: OK PackageFile: ChIPpeakAnno_3.38.0.tar.gz PackageFileSize: 21.46 MiB