Package: ChIPpeakAnno Version: 3.38.0 Command: rm -rf ChIPpeakAnno.buildbin-libdir && mkdir ChIPpeakAnno.buildbin-libdir && /Users/biocbuild/BBS/utils/build-universal.sh ChIPpeakAnno_3.38.0.tar.gz /Library/Frameworks/R.framework/Resources/bin/R ChIPpeakAnno.buildbin-libdir StartedAt: 2024-06-10 00:10:59 -0400 (Mon, 10 Jun 2024) EndedAt: 2024-06-10 00:13:25 -0400 (Mon, 10 Jun 2024) EllapsedTime: 146.4 seconds RetCode: 0 Status: OK PackageFile: ChIPpeakAnno_3.38.0.tgz PackageFileSize: 22.56 MiB