Package: ChIPpeakAnno Version: 3.38.0 Command: /home/biocbuild/R/R-beta-2024-04-15_r86425/bin/R CMD build --keep-empty-dirs --no-resave-data ChIPpeakAnno StartedAt: 2024-05-08 23:15:14 -0000 (Wed, 08 May 2024) EndedAt: 2024-05-08 23:38:01 -0000 (Wed, 08 May 2024) EllapsedTime: 1367.1 seconds RetCode: 0 Status: OK PackageFile: ChIPpeakAnno_3.38.0.tar.gz PackageFileSize: 19.76 MiB