Package: ChIPpeakAnno Version: 3.38.1 Command: /Library/Frameworks/R.framework/Resources/bin/R CMD build --keep-empty-dirs --no-resave-data ChIPpeakAnno StartedAt: 2024-10-16 21:19:08 -0400 (Wed, 16 Oct 2024) EndedAt: 2024-10-16 21:40:17 -0400 (Wed, 16 Oct 2024) EllapsedTime: 1269.0 seconds RetCode: 0 Status: OK PackageFile: ChIPpeakAnno_3.38.1.tar.gz PackageFileSize: 21.46 MiB