Package: ChIPpeakAnno Version: 3.38.1 Command: rm -rf ChIPpeakAnno.buildbin-libdir && mkdir ChIPpeakAnno.buildbin-libdir && /Users/biocbuild/BBS/utils/build-universal.sh ChIPpeakAnno_3.38.1.tar.gz /Library/Frameworks/R.framework/Resources/bin/R ChIPpeakAnno.buildbin-libdir StartedAt: 2024-10-18 17:44:54 -0400 (Fri, 18 Oct 2024) EndedAt: 2024-10-18 17:47:59 -0400 (Fri, 18 Oct 2024) EllapsedTime: 185.2 seconds RetCode: 0 Status: OK PackageFile: ChIPpeakAnno_3.38.1.tgz PackageFileSize: 22.58 MiB