Package: ChIPexoQual Version: 1.28.0 Command: rm -rf ChIPexoQual.buildbin-libdir && mkdir ChIPexoQual.buildbin-libdir && E:\biocbuild\bbs-3.19-bioc\R\bin\R.exe CMD INSTALL --build --library=ChIPexoQual.buildbin-libdir ChIPexoQual_1.28.0.tar.gz StartedAt: 2024-10-17 07:31:36 -0400 (Thu, 17 Oct 2024) EndedAt: 2024-10-17 07:32:38 -0400 (Thu, 17 Oct 2024) EllapsedTime: 61.8 seconds RetCode: 0 Status: OK PackageFile: ChIPexoQual_1.28.0.zip PackageFileSize: 2.198 MiB