Package: ChIPexoQual Version: 1.28.0 Command: chmod a+r ChIPexoQual -R && F:\biocbuild\bbs-3.19-bioc\R\bin\R.exe CMD build --keep-empty-dirs --no-resave-data ChIPexoQual StartedAt: 2024-06-26 17:46:27 -0400 (Wed, 26 Jun 2024) EndedAt: 2024-06-26 17:52:36 -0400 (Wed, 26 Jun 2024) EllapsedTime: 369.4 seconds RetCode: 0 Status: OK PackageFile: ChIPexoQual_1.28.0.tar.gz PackageFileSize: 2.129 MiB