Package: ChIPexoQual Version: 1.28.0 Command: /home/biocbuild/bbs-3.19-bioc/R/bin/R CMD check --install=check:ChIPexoQual.install-out.txt --library=/home/biocbuild/bbs-3.19-bioc/R/site-library --timings ChIPexoQual_1.28.0.tar.gz StartedAt: 2024-10-16 22:42:08 -0400 (Wed, 16 Oct 2024) EndedAt: 2024-10-16 22:50:51 -0400 (Wed, 16 Oct 2024) EllapsedTime: 523.1 seconds RetCode: 0 Status: OK CheckDir: ChIPexoQual.Rcheck Warnings: 0