Package: ChIPexoQual Version: 1.28.0 Command: /home/biocbuild/R/R-beta-2024-04-15_r86425/bin/R CMD build --keep-empty-dirs --no-resave-data ChIPexoQual StartedAt: 2024-05-08 23:15:12 -0000 (Wed, 08 May 2024) EndedAt: 2024-05-08 23:18:40 -0000 (Wed, 08 May 2024) EllapsedTime: 208.3 seconds RetCode: 0 Status: OK PackageFile: ChIPexoQual_1.28.0.tar.gz PackageFileSize: 2.165 MiB