Package: ChIPexoQual Version: 1.28.0 Command: rm -rf ChIPexoQual.buildbin-libdir && mkdir ChIPexoQual.buildbin-libdir && /Users/biocbuild/BBS/utils/build-universal.sh ChIPexoQual_1.28.0.tar.gz /Library/Frameworks/R.framework/Resources/bin/R ChIPexoQual.buildbin-libdir StartedAt: 2024-06-11 10:32:37 -0400 (Tue, 11 Jun 2024) EndedAt: 2024-06-11 10:34:12 -0400 (Tue, 11 Jun 2024) EllapsedTime: 94.9 seconds RetCode: 0 Status: OK PackageFile: ChIPexoQual_1.28.0.tgz PackageFileSize: 2.519 MiB