Package: ChIPexoQual Version: 1.28.0 Command: /Library/Frameworks/R.framework/Resources/bin/R CMD check --install=check:ChIPexoQual.install-out.txt --library=/Library/Frameworks/R.framework/Resources/library --no-vignettes --timings ChIPexoQual_1.28.0.tar.gz StartedAt: 2024-10-17 15:51:50 -0400 (Thu, 17 Oct 2024) EndedAt: 2024-10-17 16:00:46 -0400 (Thu, 17 Oct 2024) EllapsedTime: 536.4 seconds RetCode: 0 Status: OK CheckDir: ChIPexoQual.Rcheck Warnings: 0