Package: ChIPexoQual Version: 1.28.0 Maintainer: Rene Welch MaintainerEmail: welch at stat.wisc.edu git_url: https://git.bioconductor.org/packages/ChIPexoQual git_branch: RELEASE_3_19 git_last_commit: bd77a4d git_last_commit_date: 2024-04-30 10:55:58 -0400 (Tue, 30 Apr 2024)