Package: ChIPanalyser Version: 1.26.0 Command: /home/biocbuild/bbs-3.19-bioc/R/bin/R CMD check --install=check:ChIPanalyser.install-out.txt --library=/home/biocbuild/bbs-3.19-bioc/R/site-library --timings ChIPanalyser_1.26.0.tar.gz StartedAt: 2024-10-16 22:41:36 -0400 (Wed, 16 Oct 2024) EndedAt: 2024-10-16 22:46:59 -0400 (Wed, 16 Oct 2024) EllapsedTime: 323.7 seconds RetCode: 0 Status: OK CheckDir: ChIPanalyser.Rcheck Warnings: 0