Package: ChIPanalyser Version: 1.26.0 Command: rm -rf ChIPanalyser.buildbin-libdir && mkdir ChIPanalyser.buildbin-libdir && /Users/biocbuild/BBS/utils/build-universal.sh ChIPanalyser_1.26.0.tar.gz /Library/Frameworks/R.framework/Resources/bin/R ChIPanalyser.buildbin-libdir StartedAt: 2024-10-17 15:50:06 -0400 (Thu, 17 Oct 2024) EndedAt: 2024-10-17 15:51:44 -0400 (Thu, 17 Oct 2024) EllapsedTime: 97.9 seconds RetCode: 0 Status: OK PackageFile: ChIPanalyser_1.26.0.tgz PackageFileSize: 1.849 MiB