Package: ChIPanalyser Version: 1.26.0 Command: /home/biocbuild/R/R-beta-2024-04-15_r86425/bin/R CMD check --install=check:ChIPanalyser.install-out.txt --library=/home/biocbuild/R/R-beta-2024-04-15_r86425/site-library --no-vignettes --timings ChIPanalyser_1.26.0.tar.gz StartedAt: 2024-05-09 05:47:21 -0000 (Thu, 09 May 2024) EndedAt: 2024-05-09 05:54:08 -0000 (Thu, 09 May 2024) EllapsedTime: 406.8 seconds RetCode: 0 Status: OK CheckDir: ChIPanalyser.Rcheck Warnings: 0