Package: ChIPanalyser Version: 1.26.0 Command: /Library/Frameworks/R.framework/Resources/bin/R CMD build --keep-empty-dirs --no-resave-data ChIPanalyser StartedAt: 2024-06-09 19:19:30 -0400 (Sun, 09 Jun 2024) EndedAt: 2024-06-09 19:34:10 -0400 (Sun, 09 Jun 2024) EllapsedTime: 880.7 seconds RetCode: 0 Status: OK PackageFile: ChIPanalyser_1.26.0.tar.gz PackageFileSize: 1.036 MiB