Package: ChIPanalyser Version: 1.26.0 Command: /Library/Frameworks/R.framework/Resources/bin/R CMD check --install=check:ChIPanalyser.install-out.txt --library=/Library/Frameworks/R.framework/Resources/library --no-vignettes --timings ChIPanalyser_1.26.0.tar.gz StartedAt: 2024-10-17 15:49:00 -0400 (Thu, 17 Oct 2024) EndedAt: 2024-10-17 15:57:06 -0400 (Thu, 17 Oct 2024) EllapsedTime: 485.8 seconds RetCode: 0 Status: OK CheckDir: ChIPanalyser.Rcheck Warnings: 0