Package: ChIPanalyser Version: 1.26.0 Command: /Library/Frameworks/R.framework/Resources/bin/R CMD build --keep-empty-dirs --no-resave-data ChIPanalyser StartedAt: 2024-10-16 21:17:54 -0400 (Wed, 16 Oct 2024) EndedAt: 2024-10-16 21:36:49 -0400 (Wed, 16 Oct 2024) EllapsedTime: 1134.6 seconds RetCode: 0 Status: OK PackageFile: ChIPanalyser_1.26.0.tar.gz PackageFileSize: 1.223 MiB