Package: ChIPXpress Version: 1.48.0 Command: /home/biocbuild/bbs-3.19-bioc/R/bin/R CMD INSTALL ChIPXpress StartedAt: 2024-10-16 16:07:08 -0400 (Wed, 16 Oct 2024) EndedAt: 2024-10-16 16:07:38 -0400 (Wed, 16 Oct 2024) EllapsedTime: 30.0 seconds RetCode: 0 Status: OK