Package: ChIPXpress Version: 1.48.0 Command: /home/biocbuild/bbs-3.19-bioc/R/bin/R CMD check --install=check:ChIPXpress.install-out.txt --library=/home/biocbuild/bbs-3.19-bioc/R/site-library --timings ChIPXpress_1.48.0.tar.gz StartedAt: 2024-10-16 22:43:21 -0400 (Wed, 16 Oct 2024) EndedAt: 2024-10-16 22:47:20 -0400 (Wed, 16 Oct 2024) EllapsedTime: 238.5 seconds RetCode: 0 Status: OK CheckDir: ChIPXpress.Rcheck Warnings: 0