Package: ChIPXpress Version: 1.48.0 Command: /Library/Frameworks/R.framework/Resources/bin/R CMD INSTALL ChIPXpress StartedAt: 2024-06-09 15:12:53 -0400 (Sun, 09 Jun 2024) EndedAt: 2024-06-09 15:13:31 -0400 (Sun, 09 Jun 2024) EllapsedTime: 38.6 seconds RetCode: 0 Status: OK