Package: ChIPQC Version: 1.40.0 Command: E:\biocbuild\bbs-3.19-bioc\R\bin\R.exe CMD INSTALL ChIPQC StartedAt: 2024-10-16 16:45:42 -0400 (Wed, 16 Oct 2024) EndedAt: 2024-10-16 16:47:09 -0400 (Wed, 16 Oct 2024) EllapsedTime: 86.8 seconds RetCode: 0 Status: OK