Package: ChIPQC Version: 1.40.0 Command: chmod a+r ChIPQC -R && F:\biocbuild\bbs-3.19-bioc\R\bin\R.exe CMD build --keep-empty-dirs --no-resave-data ChIPQC StartedAt: 2024-06-26 17:46:33 -0400 (Wed, 26 Jun 2024) EndedAt: 2024-06-26 17:48:22 -0400 (Wed, 26 Jun 2024) EllapsedTime: 109.3 seconds RetCode: 0 Status: OK PackageFile: ChIPQC_1.40.0.tar.gz PackageFileSize: 1.527 MiB