Package: ChIPQC Version: 1.40.0 Command: rm -rf ChIPQC.buildbin-libdir && mkdir ChIPQC.buildbin-libdir && F:\biocbuild\bbs-3.19-bioc\R\bin\R.exe CMD INSTALL --build --library=ChIPQC.buildbin-libdir ChIPQC_1.40.0.tar.gz StartedAt: 2024-06-27 07:59:01 -0400 (Thu, 27 Jun 2024) EndedAt: 2024-06-27 08:00:28 -0400 (Thu, 27 Jun 2024) EllapsedTime: 87.0 seconds RetCode: 0 Status: OK PackageFile: ChIPQC_1.40.0.zip PackageFileSize: 2.088 MiB